BEGIN:VCALENDAR
VERSION:2.0
PRODID:-//www.connectionsaaa.org//NONSGML kigkonsult.se iCalcreator 2.30.10
 //
CALSCALE:GREGORIAN
METHOD:PUBLISH
UID:09b1fd6d-d608-4da4-b51b-834859cf26a6
X-WR-CALDESC:World Elder Abuse Awareness Day is held on June 15th and is an
  annual international UN observance day on the same date each year.
X-WR-RELCALID:b16ad5b8c553eee373a529b15e1410ba
X-WR-TIMEZONE:America/Chicago
BEGIN:VTIMEZONE
TZID:America/Chicago
BEGIN:STANDARD
TZNAME:CST
DTSTART:20281105T020000
TZOFFSETFROM:-0500
TZOFFSETTO:-0600
RDATE:20291104T020000
RDATE:20301103T020000
END:STANDARD
BEGIN:DAYLIGHT
TZNAME:CDT
DTSTART:20290311T020000
TZOFFSETFROM:-0600
TZOFFSETTO:-0500
RDATE:20300310T020000
END:DAYLIGHT
END:VTIMEZONE
BEGIN:VEVENT
UID:23750d29-6209-4bd9-a12b-59268334f2b9
DTSTAMP:20260425T235329Z
DESCRIPTION:World Elder Abuse Awareness Day is held on June 15th and is an 
 annual international UN observance day on the same date each year.
DTSTART;TZID=America/Chicago:20290615T050000
DTEND;TZID=America/Chicago:20290615T050001
LOCATION:
SUMMARY:World Elder Abuse Awareness Day
END:VEVENT
END:VCALENDAR
