BEGIN:VCALENDAR
VERSION:2.0
PRODID:-//www.connectionsaaa.org//NONSGML kigkonsult.se iCalcreator 2.30.10
 //
CALSCALE:GREGORIAN
METHOD:PUBLISH
UID:2db6659e-eaa5-460c-a0c3-288487fc9161
X-WR-CALDESC:\n\n
X-WR-RELCALID:c0feffa1b3f85e7b5b8c8b2b2aacd2e0
X-WR-TIMEZONE:America/Chicago
BEGIN:VTIMEZONE
TZID:America/Chicago
BEGIN:STANDARD
TZNAME:CST
DTSTART:20281105T020000
TZOFFSETFROM:-0500
TZOFFSETTO:-0600
RDATE:20291104T020000
RDATE:20301103T020000
END:STANDARD
BEGIN:DAYLIGHT
TZNAME:CDT
DTSTART:20290311T020000
TZOFFSETFROM:-0600
TZOFFSETTO:-0500
RDATE:20300310T020000
END:DAYLIGHT
END:VTIMEZONE
BEGIN:VEVENT
UID:3b0ed374-a13b-4c98-bcc5-9bc3e2fe2936
DTSTAMP:20260425T222323Z
DESCRIPTION:\n\n
DTSTART;TZID=America/Chicago:20290509T100000
DTEND;TZID=America/Chicago:20290509T113000
LOCATION:https://tinyurl.com/WRAAPQtrMtg
SUMMARY:Western Iowa Region Adult Abuse Prevention (WRAAP) Meeting
END:VEVENT
END:VCALENDAR
