BEGIN:VCALENDAR
VERSION:2.0
PRODID:-//www.connectionsaaa.org//NONSGML kigkonsult.se iCalcreator 2.30.10
 //
CALSCALE:GREGORIAN
METHOD:PUBLISH
UID:3a36f6c7-a152-4cbc-85aa-efd21a04e5ff
X-WR-CALDESC:\n\n
X-WR-RELCALID:78f64f7baef3b1376257437dc92fd4e0
X-WR-TIMEZONE:America/Chicago
BEGIN:VTIMEZONE
TZID:America/Chicago
BEGIN:STANDARD
TZNAME:CST
DTSTART:20281105T020000
TZOFFSETFROM:-0500
TZOFFSETTO:-0600
RDATE:20291104T020000
END:STANDARD
BEGIN:DAYLIGHT
TZNAME:CDT
DTSTART:20280312T020000
TZOFFSETFROM:-0600
TZOFFSETTO:-0500
RDATE:20290311T020000
RDATE:20300310T020000
END:DAYLIGHT
END:VTIMEZONE
BEGIN:VEVENT
UID:a2f83ae0-caba-467e-b4ce-e9cd45c51c36
DTSTAMP:20260425T115647Z
DESCRIPTION:\n\n
DTSTART;TZID=America/Chicago:20281108T100000
DTEND;TZID=America/Chicago:20281108T113000
LOCATION:https://tinyurl.com/WRAAPQtrMtg
SUMMARY:Western Iowa Region Adult Abuse Prevention (WRAAP) Meeting
END:VEVENT
END:VCALENDAR
