BEGIN:VCALENDAR
VERSION:2.0
PRODID:-//www.connectionsaaa.org//NONSGML kigkonsult.se iCalcreator 2.30.10
 //
CALSCALE:GREGORIAN
METHOD:PUBLISH
UID:4a9ef976-a67d-49df-b562-8be5ae8a6513
X-WR-CALDESC:World Elder Abuse Awareness Day is held on June 15th and is an
  annual international UN observance day on the same date each year.
X-WR-RELCALID:342e56e8f62f332acdfdcb0eebddf67c
X-WR-TIMEZONE:America/Chicago
BEGIN:VTIMEZONE
TZID:America/Chicago
BEGIN:STANDARD
TZNAME:CST
DTSTART:20261101T020000
TZOFFSETFROM:-0500
TZOFFSETTO:-0600
RDATE:20271107T020000
RDATE:20281105T020000
END:STANDARD
BEGIN:DAYLIGHT
TZNAME:CDT
DTSTART:20270314T020000
TZOFFSETFROM:-0600
TZOFFSETTO:-0500
RDATE:20280312T020000
END:DAYLIGHT
END:VTIMEZONE
BEGIN:VEVENT
UID:baad2c38-16b0-461e-bf67-72e9843fba1f
DTSTAMP:20260424T083314Z
DESCRIPTION:World Elder Abuse Awareness Day is held on June 15th and is an 
 annual international UN observance day on the same date each year.
DTSTART;TZID=America/Chicago:20270615T050000
DTEND;TZID=America/Chicago:20270615T050001
LOCATION:
SUMMARY:World Elder Abuse Awareness Day
END:VEVENT
END:VCALENDAR
