BEGIN:VCALENDAR
VERSION:2.0
PRODID:-//www.connectionsaaa.org//NONSGML kigkonsult.se iCalcreator 2.30.10
 //
CALSCALE:GREGORIAN
METHOD:PUBLISH
UID:e41a5d7d-384d-4959-9b0a-52ffa8ed0a6e
X-WR-CALDESC:\n\n
X-WR-RELCALID:8f85d442b47c4065313a211300ece5a1
X-WR-TIMEZONE:America/Chicago
BEGIN:VTIMEZONE
TZID:America/Chicago
BEGIN:STANDARD
TZNAME:CST
DTSTART:20261101T020000
TZOFFSETFROM:-0500
TZOFFSETTO:-0600
RDATE:20271107T020000
END:STANDARD
BEGIN:DAYLIGHT
TZNAME:CDT
DTSTART:20260308T020000
TZOFFSETFROM:-0600
TZOFFSETTO:-0500
RDATE:20270314T020000
RDATE:20280312T020000
END:DAYLIGHT
END:VTIMEZONE
BEGIN:VEVENT
UID:29e348db-3ed5-4787-a654-36cca642e8c0
DTSTAMP:20260424T015103Z
DESCRIPTION:\n\n
DTSTART;TZID=America/Chicago:20270210T100000
DTEND;TZID=America/Chicago:20270210T113000
LOCATION:https://tinyurl.com/WRAAPQtrMtg
SUMMARY:Western Iowa Region Adult Abuse Prevention (WRAAP) Meeting
END:VEVENT
END:VCALENDAR
