BEGIN:VCALENDAR
VERSION:2.0
PRODID:-//www.connectionsaaa.org//NONSGML kigkonsult.se iCalcreator 2.30.10
 //
CALSCALE:GREGORIAN
METHOD:PUBLISH
UID:0da8a880-70fa-4730-95ae-9b3e4afb38f2
X-WR-CALDESC:
X-WR-RELCALID:6fb131f0705c86724ab1e07dff2e1ef6
X-WR-TIMEZONE:America/Chicago
BEGIN:VTIMEZONE
TZID:America/Chicago
BEGIN:STANDARD
TZNAME:CST
DTSTART:20251102T020000
TZOFFSETFROM:-0500
TZOFFSETTO:-0600
RDATE:20261101T020000
RDATE:20271107T020000
END:STANDARD
BEGIN:DAYLIGHT
TZNAME:CDT
DTSTART:20260308T020000
TZOFFSETFROM:-0600
TZOFFSETTO:-0500
RDATE:20270314T020000
RDATE:20280312T020000
END:DAYLIGHT
END:VTIMEZONE
BEGIN:VEVENT
UID:3bc9879f-fb96-4c79-a2fa-b1c33c980f4d
DTSTAMP:20260423T172548Z
DESCRIPTION:
DTSTART;TZID=America/Chicago:20260918T100000
DTEND;TZID=America/Chicago:20260918T170000
LOCATION:
SUMMARY:26th Annual Golf Classic
END:VEVENT
END:VCALENDAR
