BEGIN:VCALENDAR
VERSION:2.0
PRODID:-//www.connectionsaaa.org//NONSGML kigkonsult.se iCalcreator 2.30.10
 //
CALSCALE:GREGORIAN
METHOD:PUBLISH
UID:e56d9dad-ff5c-4c04-8a35-2d5ccced6f94
X-WR-CALDESC:World Elder Abuse Awareness Day is held on June 15th and is an
  annual international UN observance day on the same date each year.
X-WR-RELCALID:e0c8f1144e0ced0b3636dc88e835afc0
X-WR-TIMEZONE:America/Chicago
BEGIN:VTIMEZONE
TZID:America/Chicago
BEGIN:STANDARD
TZNAME:CST
DTSTART:20251102T020000
TZOFFSETFROM:-0500
TZOFFSETTO:-0600
RDATE:20261101T020000
RDATE:20271107T020000
END:STANDARD
BEGIN:DAYLIGHT
TZNAME:CDT
DTSTART:20260308T020000
TZOFFSETFROM:-0600
TZOFFSETTO:-0500
RDATE:20270314T020000
END:DAYLIGHT
END:VTIMEZONE
BEGIN:VEVENT
UID:b7cfacda-4562-4399-989d-02f8a13ec70e
DTSTAMP:20260423T124117Z
DESCRIPTION:World Elder Abuse Awareness Day is held on June 15th and is an 
 annual international UN observance day on the same date each year.
DTSTART;TZID=America/Chicago:20260615T050000
DTEND;TZID=America/Chicago:20260615T050001
LOCATION:
SUMMARY:World Elder Abuse Awareness Day
END:VEVENT
END:VCALENDAR
