BEGIN:VCALENDAR
VERSION:2.0
PRODID:-//www.connectionsaaa.org//NONSGML kigkonsult.se iCalcreator 2.30.10
 //
CALSCALE:GREGORIAN
METHOD:PUBLISH
UID:5fe27aae-0a62-4079-be2c-b348ecc124af
X-WR-CALDESC:\n\n
X-WR-RELCALID:6acd42ce6a5e394c2e6efd0bb1044a87
X-WR-TIMEZONE:America/Chicago
BEGIN:VTIMEZONE
TZID:America/Chicago
BEGIN:STANDARD
TZNAME:CST
DTSTART:20251102T020000
TZOFFSETFROM:-0500
TZOFFSETTO:-0600
RDATE:20261101T020000
RDATE:20271107T020000
END:STANDARD
BEGIN:DAYLIGHT
TZNAME:CDT
DTSTART:20260308T020000
TZOFFSETFROM:-0600
TZOFFSETTO:-0500
RDATE:20270314T020000
END:DAYLIGHT
END:VTIMEZONE
BEGIN:VEVENT
UID:f6bbce53-0132-4f96-80c7-3b618614272c
DTSTAMP:20260423T105034Z
DESCRIPTION:\n\n
DTSTART;TZID=America/Chicago:20260513T100000
DTEND;TZID=America/Chicago:20260513T113000
LOCATION:https://tinyurl.com/WRAAPQtrMtg
SUMMARY:Western Iowa Region Adult Abuse Prevention (WRAAP) Meeting
END:VEVENT
END:VCALENDAR
