BEGIN:VCALENDAR
VERSION:2.0
PRODID:-//www.connectionsaaa.org//NONSGML kigkonsult.se iCalcreator 2.30.10
 //
CALSCALE:GREGORIAN
METHOD:PUBLISH
UID:4e027d16-7e02-489a-9a06-6cb0071d08f0
X-WR-CALDESC:
X-WR-RELCALID:c092f975f9e3908b6fde6ecb8f48ee6a
X-WR-TIMEZONE:America/Chicago
BEGIN:VTIMEZONE
TZID:America/Chicago
BEGIN:STANDARD
TZNAME:CST
DTSTART:20251102T020000
TZOFFSETFROM:-0500
TZOFFSETTO:-0600
RDATE:20261101T020000
END:STANDARD
BEGIN:DAYLIGHT
TZNAME:CDT
DTSTART:20260308T020000
TZOFFSETFROM:-0600
TZOFFSETTO:-0500
RDATE:20270314T020000
END:DAYLIGHT
END:VTIMEZONE
BEGIN:VEVENT
UID:f18a5651-092b-406b-a25b-d2680ebe8c32
DTSTAMP:20260423T104915Z
DESCRIPTION:
DTSTART;TZID=America/Chicago:20260323T110000
DTEND;TZID=America/Chicago:20260323T120000
LOCATION:Clarke County Hospital\, 805 S Fillmore\, Osceola\, IA 50213 US
SUMMARY:Matter of Balance Osceola
END:VEVENT
END:VCALENDAR
