BEGIN:VCALENDAR
VERSION:2.0
PRODID:-//www.connectionsaaa.org//NONSGML kigkonsult.se iCalcreator 2.30.10
 //
CALSCALE:GREGORIAN
METHOD:PUBLISH
UID:79f5d52c-27f6-445a-8f26-48df595e3a66
X-WR-CALDESC:Tai Chi for Arthritis and Fall Prevention is an 8-week course 
 for improving strength and balance. Contact Nikki at 800-432-9209 ex 8710 
 or email her at ncorderman@connectionsaaa.org\, for more information or to
  register.
X-WR-RELCALID:f34a6ca6723c0a6539134408df8f4c8c
X-WR-TIMEZONE:America/Chicago
BEGIN:VTIMEZONE
TZID:America/Chicago
BEGIN:STANDARD
TZNAME:CST
DTSTART:20251102T020000
TZOFFSETFROM:-0500
TZOFFSETTO:-0600
RDATE:20261101T020000
END:STANDARD
BEGIN:DAYLIGHT
TZNAME:CDT
DTSTART:20250309T020000
TZOFFSETFROM:-0600
TZOFFSETTO:-0500
RDATE:20260308T020000
RDATE:20270314T020000
END:DAYLIGHT
END:VTIMEZONE
BEGIN:VEVENT
UID:2f1dc53b-447e-443a-beda-dc3a231b84c1
DTSTAMP:20260423T140237Z
DESCRIPTION:Tai Chi for Arthritis and Fall Prevention is an 8-week course f
 or improving strength and balance. Contact Nikki at 800-432-9209 ex 8710 o
 r email her at ncorderman@connectionsaaa.org\, for more information or to 
 register.
DTSTART;TZID=America/Chicago:20260107T110000
DTEND;TZID=America/Chicago:20260107T120000
LOCATION:Gibson Memorial Library\, 200 West Howard\, Creston\, IA 50812 US
SUMMARY:Tai Chi for Arthritis and Fall Prevention--Creston
END:VEVENT
END:VCALENDAR
