BEGIN:VCALENDAR
VERSION:2.0
PRODID:-//www.connectionsaaa.org//NONSGML kigkonsult.se iCalcreator 2.30.10
 //
CALSCALE:GREGORIAN
METHOD:PUBLISH
UID:ee59f129-cfbf-48de-a585-31f6cd561068
X-WR-CALDESC:Join us for an informative session designed to help protect yo
 u\, your finances\, and your personal information.
X-WR-RELCALID:0c265bdd125152670c118b40acfcc985
X-WR-TIMEZONE:America/Chicago
BEGIN:VTIMEZONE
TZID:America/Chicago
BEGIN:STANDARD
TZNAME:CST
DTSTART:20251102T020000
TZOFFSETFROM:-0500
TZOFFSETTO:-0600
RDATE:20261101T020000
END:STANDARD
BEGIN:DAYLIGHT
TZNAME:CDT
DTSTART:20250309T020000
TZOFFSETFROM:-0600
TZOFFSETTO:-0500
RDATE:20260308T020000
RDATE:20270314T020000
END:DAYLIGHT
END:VTIMEZONE
BEGIN:VEVENT
UID:c4d6865e-9898-4ce3-a66d-ad448186cf6f
DTSTAMP:20260423T153239Z
DESCRIPTION:Join us for an informative session designed to help protect you
 \, your finances\, and your personal information.
DTSTART;TZID=America/Chicago:20251201T150000
DTEND;TZID=America/Chicago:20251201T170000
LOCATION:Orient Community Library\, 201 School St\, Orient\, IA 50858 US
SUMMARY:Let's Talk Fraud--Orient IA
END:VEVENT
END:VCALENDAR
