BEGIN:VCALENDAR
VERSION:2.0
PRODID:-//www.connectionsaaa.org//NONSGML kigkonsult.se iCalcreator 2.30.10
 //
CALSCALE:GREGORIAN
METHOD:PUBLISH
UID:b620965d-1d32-426d-9f6c-dd3163c77a3f
X-WR-CALDESC:A Matter of Balance workshop will be held\nGibson Memorial Lib
 rary\, 200 West Howard Street\nTuesdays 10:30 A.M. – 12:30 P.M.\nOctober 2
 8th – December 16th\, 2025\nThis 8-session workshop addresses the fears of
  falling and teaches fall prevention strategies.\nWho should attend?\nThe 
 program was designed to benefit older adults who:\n•\nAre concerned about 
 falls\n•\nHave sustained a fall in the past\n•\nRestrict activities becaus
 e of concerns about falling\n•\nAre interested in improving flexibility\, 
 balance and strength\n•\nAre age 60 or older\, ambulatory and able to prob
 lem-solve
X-WR-RELCALID:7e0c56b5af383cc1d15af604679845cb
X-WR-TIMEZONE:America/Chicago
BEGIN:VTIMEZONE
TZID:America/Chicago
BEGIN:STANDARD
TZNAME:CST
DTSTART:20241103T020000
TZOFFSETFROM:-0500
TZOFFSETTO:-0600
RDATE:20251102T020000
RDATE:20261101T020000
END:STANDARD
BEGIN:DAYLIGHT
TZNAME:CDT
DTSTART:20250309T020000
TZOFFSETFROM:-0600
TZOFFSETTO:-0500
RDATE:20260308T020000
RDATE:20270314T020000
END:DAYLIGHT
END:VTIMEZONE
BEGIN:VEVENT
UID:700c35be-f30c-43ab-822f-2198e638909a
DTSTAMP:20260423T184211Z
DESCRIPTION:A Matter of Balance workshop will be held\nGibson Memorial Libr
 ary\, 200 West Howard Street\nTuesdays 10:30 A.M. – 12:30 P.M.\nOctober 28
 th – December 16th\, 2025\nThis 8-session workshop addresses the fears of 
 falling and teaches fall prevention strategies.\nWho should attend?\nThe p
 rogram was designed to benefit older adults who:\n•\nAre concerned about f
 alls\n•\nHave sustained a fall in the past\n•\nRestrict activities because
  of concerns about falling\n•\nAre interested in improving flexibility\, b
 alance and strength\n•\nAre age 60 or older\, ambulatory and able to probl
 em-solve
DTSTART;TZID=America/Chicago:20251028T103000
DTEND;TZID=America/Chicago:20251028T123000
LOCATION:Gibson Memorial Library\, 20 West Howard\, Creston\, IA 50801 US
SUMMARY:Matter of Balance Class Creston
END:VEVENT
END:VCALENDAR
