BEGIN:VCALENDAR
VERSION:2.0
PRODID:-//www.connectionsaaa.org//NONSGML kigkonsult.se iCalcreator 2.30.10
 //
CALSCALE:GREGORIAN
METHOD:PUBLISH
UID:f1b4bc54-a11d-457e-8a93-324a49bc550f
X-WR-CALDESC:Connections Area Agency on Aging and Taylor County Public heal
 th are offering a Matter of Balance Class in Lenox IA\, Wednesdays August 
 13th through October 1st.    This class is full but be on the look out for
  future classes
X-WR-RELCALID:b28f509940c4c104d147c5c842b776b1
X-WR-TIMEZONE:America/Chicago
BEGIN:VTIMEZONE
TZID:America/Chicago
BEGIN:STANDARD
TZNAME:CST
DTSTART:20241103T020000
TZOFFSETFROM:-0500
TZOFFSETTO:-0600
RDATE:20251102T020000
RDATE:20261101T020000
END:STANDARD
BEGIN:DAYLIGHT
TZNAME:CDT
DTSTART:20250309T020000
TZOFFSETFROM:-0600
TZOFFSETTO:-0500
RDATE:20260308T020000
END:DAYLIGHT
END:VTIMEZONE
BEGIN:VEVENT
UID:2e382531-5b8f-4d30-8ae2-ce25180226d6
DTSTAMP:20260423T184109Z
DESCRIPTION:Connections Area Agency on Aging and Taylor County Public healt
 h are offering a Matter of Balance Class in Lenox IA\, Wednesdays August 1
 3th through October 1st.    This class is full but be on the look out for 
 future classes
DTSTART;TZID=America/Chicago:20250813T130000
DTEND;TZID=America/Chicago:20251001T140000
LOCATION:810 E Van Buren St\, Lenox\, IA 50851 US
SUMMARY:CLASS FULL--Matter of Balance--Lenox IA
END:VEVENT
END:VCALENDAR
