BEGIN:VCALENDAR
VERSION:2.0
PRODID:-//www.connectionsaaa.org//NONSGML kigkonsult.se iCalcreator 2.30.10
 //
CALSCALE:GREGORIAN
METHOD:PUBLISH
UID:4f03805c-cc44-4d0f-927e-16e7b23ad745
X-WR-CALDESC:Get ready—ticket sales for our Steak Your Claim Raffle start t
 his week! 🎉One lucky winner will take home ¼ of locally processed beef—a p
 rize worth over $1\,500.\nTickets:\n• 1 for $10\n• 3 for $25\nYou can snag
  your tickets from Connections staff members or volunteers\, or find us at
  one of our upcoming in-person sales:\n📍August 16\, 10 AM–2 PM – Super Sav
 er Lobby\, Council Bluffs\n📍August 17\, 10 AM–2 PM – Super Saver Lobby\, C
 ouncil Bluffs\n📍August 19\, 1 PM–6 PM – Page County Resource Fair\, Clarin
 da\, IA\n📍September 6\, 10 AM–4 PM – Southern Hills Mall\, Sioux City\n📍Se
 ptember 20\, 10 AM–4 PM – Southern Hills Mall\, Sioux City\n📍September 22\
 , 10 AM–4 PM – Siouxland Center for Active Generations\nMore Creston-area 
 dates are coming soon—stay tuned!  If these dates don’t work for you and y
 ou would like tickets please email or call us at: info@connectionsaaa.org 
 or 800-432-9209 ex 8132\nThis is a delicious way to support Connections an
 d maybe fill your freezer for the year. 🥩n
X-WR-RELCALID:792de3a2ac6da3cac63bd5da67aaf776
X-WR-TIMEZONE:America/Chicago
BEGIN:VTIMEZONE
TZID:America/Chicago
BEGIN:STANDARD
TZNAME:CST
DTSTART:20241103T020000
TZOFFSETFROM:-0500
TZOFFSETTO:-0600
RDATE:20251102T020000
RDATE:20261101T020000
END:STANDARD
BEGIN:DAYLIGHT
TZNAME:CDT
DTSTART:20250309T020000
TZOFFSETFROM:-0600
TZOFFSETTO:-0500
RDATE:20260308T020000
END:DAYLIGHT
END:VTIMEZONE
BEGIN:VEVENT
UID:0c721939-8562-4b1f-8e92-aa490500f8a8
DTSTAMP:20260423T201443Z
DESCRIPTION:Get ready—ticket sales for our Steak Your Claim Raffle start th
 is week! 🎉One lucky winner will take home ¼ of locally processed beef—a pr
 ize worth over $1\,500.\nTickets:\n• 1 for $10\n• 3 for $25\nYou can snag 
 your tickets from Connections staff members or volunteers\, or find us at 
 one of our upcoming in-person sales:\n📍August 16\, 10 AM–2 PM – Super Save
 r Lobby\, Council Bluffs\n📍August 17\, 10 AM–2 PM – Super Saver Lobby\, Co
 uncil Bluffs\n📍August 19\, 1 PM–6 PM – Page County Resource Fair\, Clarind
 a\, IA\n📍September 6\, 10 AM–4 PM – Southern Hills Mall\, Sioux City\n📍Sep
 tember 20\, 10 AM–4 PM – Southern Hills Mall\, Sioux City\n📍September 22\,
  10 AM–4 PM – Siouxland Center for Active Generations\nMore Creston-area d
 ates are coming soon—stay tuned!  If these dates don’t work for you and yo
 u would like tickets please email or call us at: info@connectionsaaa.org o
 r 800-432-9209 ex 8132\nThis is a delicious way to support Connections and
  maybe fill your freezer for the year. 🥩n
DTSTART;TZID=America/Chicago:20250815T170000
DTEND;TZID=America/Chicago:20250930T180000
LOCATION:
SUMMARY:Steak Your Claim Beef Raffle
END:VEVENT
END:VCALENDAR
