BEGIN:VCALENDAR
VERSION:2.0
PRODID:-//www.connectionsaaa.org//NONSGML kigkonsult.se iCalcreator 2.30.10
 //
CALSCALE:GREGORIAN
METHOD:PUBLISH
UID:130ca8c4-84b5-4146-a305-8458d4bb94a8
X-WR-CALDESC:🥩Steak Your Claim – Raffle Tickets On Sale Now! 🥩nHere’s your 
 chance to win ¼ of a locally raised beef—processing included (a value of o
 ver $1\,500)!\nProceeds benefit Connections Area Agency on Aging\, helping
  us provide vital services for older adults and family caregivers in our c
 ommunity.\n\n🎟Tickets: $10 each or 3 for $25\n📍Available from Connections 
 staff\, volunteers\, and at upcoming community events.\n\nDon’t miss your 
 chance to stock your freezer and support a great cause!
X-WR-RELCALID:372afe17ab2fce1dad68d75a2a508d63
X-WR-TIMEZONE:America/Chicago
BEGIN:VTIMEZONE
TZID:America/Chicago
BEGIN:STANDARD
TZNAME:CST
DTSTART:20241103T020000
TZOFFSETFROM:-0500
TZOFFSETTO:-0600
RDATE:20251102T020000
RDATE:20261101T020000
END:STANDARD
BEGIN:DAYLIGHT
TZNAME:CDT
DTSTART:20250309T020000
TZOFFSETFROM:-0600
TZOFFSETTO:-0500
RDATE:20260308T020000
END:DAYLIGHT
END:VTIMEZONE
BEGIN:VEVENT
UID:8de2a0a1-2bab-46af-ab7d-d413525b0b7b
DTSTAMP:20260423T215018Z
DESCRIPTION:🥩Steak Your Claim – Raffle Tickets On Sale Now! 🥩nHere’s your c
 hance to win ¼ of a locally raised beef—processing included (a value of ov
 er $1\,500)!\nProceeds benefit Connections Area Agency on Aging\, helping 
 us provide vital services for older adults and family caregivers in our co
 mmunity.\n\n🎟Tickets: $10 each or 3 for $25\n📍Available from Connections s
 taff\, volunteers\, and at upcoming community events.\n\nDon’t miss your c
 hance to stock your freezer and support a great cause!
DTSTART;TZID=America/Chicago:20250817T100000
DTEND;TZID=America/Chicago:20250817T140000
LOCATION:1141 N Broadway\, Council Bluffs\, IA 51503 US
SUMMARY:Buy your Steak Your Claim Raffle Tickets-Super Saver Council Bluffs
END:VEVENT
END:VCALENDAR
