BEGIN:VCALENDAR
VERSION:2.0
PRODID:-//www.connectionsaaa.org//NONSGML kigkonsult.se iCalcreator 2.30.10
 //
CALSCALE:GREGORIAN
METHOD:PUBLISH
UID:a46205dd-b576-4a83-a13f-d22a67ca304f
X-WR-CALDESC:World Elder Abuse Awareness Day is held on June 15th and is an
  annual international UN observance day on the same date each year.
X-WR-RELCALID:fa9ae7c84c5df6cc86cd0675a7829e41
X-WR-TIMEZONE:America/Chicago
BEGIN:VTIMEZONE
TZID:America/Chicago
BEGIN:STANDARD
TZNAME:CST
DTSTART:20241103T020000
TZOFFSETFROM:-0500
TZOFFSETTO:-0600
RDATE:20251102T020000
RDATE:20261101T020000
END:STANDARD
BEGIN:DAYLIGHT
TZNAME:CDT
DTSTART:20250309T020000
TZOFFSETFROM:-0600
TZOFFSETTO:-0500
RDATE:20260308T020000
END:DAYLIGHT
END:VTIMEZONE
BEGIN:VEVENT
UID:80fbcd23-3520-4f38-a212-d3cfd08c784e
DTSTAMP:20260424T010301Z
DESCRIPTION:World Elder Abuse Awareness Day is held on June 15th and is an 
 annual international UN observance day on the same date each year.
DTSTART;TZID=America/Chicago:20250615T050000
DTEND;TZID=America/Chicago:20250615T050001
LOCATION:
SUMMARY:World Elder Abuse Awareness Day
END:VEVENT
END:VCALENDAR
