BEGIN:VCALENDAR
VERSION:2.0
PRODID:-//www.connectionsaaa.org//NONSGML kigkonsult.se iCalcreator 2.30.10
 //
CALSCALE:GREGORIAN
METHOD:PUBLISH
UID:1c259722-7f5c-4791-9a5e-14f0a02695fe
X-WR-CALDESC:Join us for our first annual Making Connections Pizza Puzzles 
 and Pints\, and help us to raise funds for home delivered meals\, while ha
 ve a great time with friends and family
X-WR-RELCALID:bd601fd591d30fb11ed538c78235dfb4
X-WR-TIMEZONE:America/Chicago
BEGIN:VTIMEZONE
TZID:America/Chicago
BEGIN:STANDARD
TZNAME:CST
DTSTART:20241103T020000
TZOFFSETFROM:-0500
TZOFFSETTO:-0600
RDATE:20251102T020000
RDATE:20261101T020000
END:STANDARD
BEGIN:DAYLIGHT
TZNAME:CDT
DTSTART:20250309T020000
TZOFFSETFROM:-0600
TZOFFSETTO:-0500
RDATE:20260308T020000
END:DAYLIGHT
END:VTIMEZONE
BEGIN:VEVENT
UID:ffc1cefb-8caf-4d8a-ac3e-ef08fa1558a5
DTSTAMP:20260424T005950Z
DESCRIPTION:Join us for our first annual Making Connections Pizza Puzzles a
 nd Pints\, and help us to raise funds for home delivered meals\, while hav
 e a great time with friends and family
DTSTART;TZID=America/Chicago:20250605T180000
DTEND;TZID=America/Chicago:20250605T200000
LOCATION:211 West Adams St\, Creston\, IA 50801 US
SUMMARY:***NEW DATE***Making Connections-Pizza Puzzles and Pints Creston Ar
 ea Fundraiser
END:VEVENT
END:VCALENDAR
