BEGIN:VCALENDAR
VERSION:2.0
PRODID:-//www.connectionsaaa.org//NONSGML kigkonsult.se iCalcreator 2.30.10
 //
CALSCALE:GREGORIAN
METHOD:PUBLISH
UID:d2546930-7485-4fe9-ad14-16c972b05bcf
X-WR-CALDESC:Connections Area Agency on Aging announces its Spring “Shred-t
 astic\,” a document shredding event\, will be returning to Sioux City.  Th
 is event is for seniors ages 60+ and their caregivers and will take place 
 May 2\, 2025\, 11:00 a.m. to 1:00 p.m. at the Siouxland Center for Active 
 Generations\, 313 Cook Street\, Sioux City. Document Depot is providing a 
 shredding service for personal papers only.
X-WR-RELCALID:e456ae399efbb526bd1957f7dfb76205
X-WR-TIMEZONE:America/Chicago
BEGIN:VTIMEZONE
TZID:America/Chicago
BEGIN:STANDARD
TZNAME:CST
DTSTART:20241103T020000
TZOFFSETFROM:-0500
TZOFFSETTO:-0600
RDATE:20251102T020000
RDATE:20261101T020000
END:STANDARD
BEGIN:DAYLIGHT
TZNAME:CDT
DTSTART:20250309T020000
TZOFFSETFROM:-0600
TZOFFSETTO:-0500
RDATE:20260308T020000
END:DAYLIGHT
END:VTIMEZONE
BEGIN:VEVENT
UID:ea07ae4c-83a3-43ec-983d-31938bf821b3
DTSTAMP:20260424T024315Z
DESCRIPTION:Connections Area Agency on Aging announces its Spring “Shred-ta
 stic\,” a document shredding event\, will be returning to Sioux City.  Thi
 s event is for seniors ages 60+ and their caregivers and will take place M
 ay 2\, 2025\, 11:00 a.m. to 1:00 p.m. at the Siouxland Center for Active G
 enerations\, 313 Cook Street\, Sioux City. Document Depot is providing a s
 hredding service for personal papers only.
DTSTART;TZID=America/Chicago:20250502T110000
DTEND;TZID=America/Chicago:20250502T130000
LOCATION:Siouxland Center for Active Generations\, 313 Cook St. Sioux City\
 , Sioux City \, IA 51103 US
SUMMARY:Shredtastic-Sioux City
END:VEVENT
END:VCALENDAR
