BEGIN:VCALENDAR
VERSION:2.0
PRODID:-//www.connectionsaaa.org//NONSGML kigkonsult.se iCalcreator 2.30.10
 //
CALSCALE:GREGORIAN
METHOD:PUBLISH
UID:897fb52a-f698-43a6-a409-8ab2e0067730
X-WR-CALDESC:We are so excited to be Dusted Charm's March Give Back agency.
 \n** Join us for our March Give Back Event\, featuring Connections Area Ag
 ency on Aging!\n** This special occasion is all about giving back to our c
 ommunity and supporting older Iowans in our region. 25% of total sales in 
 store & online will be donated to this amazing organization.\n\nFunds rais
 ed at our March Give Back Event will go directly towards the Home-delivere
 d Meals Program\, supporting homebound seniors in our community.\n\nBring 
 your friends and family and let’s spread some kindness together! ? We can’
 t wait to join arms with our customers & help give back. See less
X-WR-RELCALID:67a1d9d34e1c629ee7fe8be01e07324d
X-WR-TIMEZONE:America/Chicago
BEGIN:VTIMEZONE
TZID:America/Chicago
BEGIN:STANDARD
TZNAME:CST
DTSTART:20241103T020000
TZOFFSETFROM:-0500
TZOFFSETTO:-0600
RDATE:20251102T020000
END:STANDARD
BEGIN:DAYLIGHT
TZNAME:CDT
DTSTART:20250309T020000
TZOFFSETFROM:-0600
TZOFFSETTO:-0500
RDATE:20260308T020000
END:DAYLIGHT
END:VTIMEZONE
BEGIN:VEVENT
UID:022240db-ba85-4903-9655-cd930997bf81
DTSTAMP:20260424T055619Z
DESCRIPTION:We are so excited to be Dusted Charm's March Give Back agency.
 \n** Join us for our March Give Back Event\, featuring Connections Area Ag
 ency on Aging!\n** This special occasion is all about giving back to our c
 ommunity and supporting older Iowans in our region. 25% of total sales in 
 store & online will be donated to this amazing organization.\n\nFunds rais
 ed at our March Give Back Event will go directly towards the Home-delivere
 d Meals Program\, supporting homebound seniors in our community.\n\nBring 
 your friends and family and let’s spread some kindness together! ? We can’
 t wait to join arms with our customers & help give back. See less
DTSTART;TZID=America/Chicago:20250322T050000
DTEND;TZID=America/Chicago:20250322T050001
LOCATION:on line or in store at 120 W Broadway • Council Bluffs\, Iowa
SUMMARY:Dusted Charm March Giveback Event--Connections Area Agency on Aging
END:VEVENT
END:VCALENDAR
