BEGIN:VCALENDAR
VERSION:2.0
PRODID:-//www.connectionsaaa.org//NONSGML kigkonsult.se iCalcreator 2.30.10
 //
CALSCALE:GREGORIAN
METHOD:PUBLISH
UID:f3186816-ad9d-42c3-95a6-6b7053a4e531
X-WR-CALDESC:\n\n
X-WR-RELCALID:04c4370568a42677ca98e1f068d9ed82
X-WR-TIMEZONE:America/Chicago
BEGIN:VTIMEZONE
TZID:America/Chicago
BEGIN:STANDARD
TZNAME:CST
DTSTART:20241103T020000
TZOFFSETFROM:-0500
TZOFFSETTO:-0600
RDATE:20251102T020000
END:STANDARD
BEGIN:DAYLIGHT
TZNAME:CDT
DTSTART:20240310T020000
TZOFFSETFROM:-0600
TZOFFSETTO:-0500
RDATE:20250309T020000
RDATE:20260308T020000
END:DAYLIGHT
END:VTIMEZONE
BEGIN:VEVENT
UID:85388222-83b5-4a68-adea-e9aed56d28ff
DTSTAMP:20260424T072545Z
DESCRIPTION:\n\n
DTSTART;TZID=America/Chicago:20250212T100000
DTEND;TZID=America/Chicago:20250212T113000
LOCATION:https://tinyurl.com/WRAAPQtrMtg
SUMMARY:Western Iowa Region Adult Abuse Prevention (WRAAP) Meeting
END:VEVENT
END:VCALENDAR
