BEGIN:VCALENDAR
VERSION:2.0
PRODID:-//www.connectionsaaa.org//NONSGML kigkonsult.se iCalcreator 2.30.10
 //
CALSCALE:GREGORIAN
METHOD:PUBLISH
UID:3bf9f8f3-3c41-4797-ac6e-335837748981
X-WR-CALDESC:
X-WR-RELCALID:ccbee66a177918ae6beca83a55c61efe
X-WR-TIMEZONE:America/Chicago
BEGIN:VTIMEZONE
TZID:America/Chicago
BEGIN:STANDARD
TZNAME:CST
DTSTART:20241103T020000
TZOFFSETFROM:-0500
TZOFFSETTO:-0600
RDATE:20251102T020000
END:STANDARD
BEGIN:DAYLIGHT
TZNAME:CDT
DTSTART:20240310T020000
TZOFFSETFROM:-0600
TZOFFSETTO:-0500
RDATE:20250309T020000
RDATE:20260308T020000
END:DAYLIGHT
END:VTIMEZONE
BEGIN:VEVENT
UID:074117da-acb6-4366-8076-f2d922bb757a
DTSTAMP:20260424T104546Z
DESCRIPTION:
DTSTART;TZID=America/Chicago:20241224T050000
DTEND;TZID=America/Chicago:20241225T050001
LOCATION:
SUMMARY:Offices Closed
END:VEVENT
END:VCALENDAR
