BEGIN:VCALENDAR
VERSION:2.0
PRODID:-//www.connectionsaaa.org//NONSGML kigkonsult.se iCalcreator 2.30.10
 //
CALSCALE:GREGORIAN
METHOD:PUBLISH
UID:cb37fff2-76a4-49ff-bbf4-23baf006e6c3
X-WR-CALDESC:Please join our friends at Clarke County Hospital for their up
 coming Matter of Balance class.  The class will take place 10/7/2024-11/25
 /2024 9am to 11am.  \nMatter of Balance is a multi-session program designe
 d to improve balance to manage falls and increase activity levels. Partici
 pants can expect to learn how to view falls as controllable\; set goals to
  increase activity\; improve balance\, flexibility. and strength\; and ass
 ess one's home so that it is set up to reduce falls. The program time is 2
  hours per session\, once a week for 8 weeks.\n\nThis program is designed 
 for patients 60 years of age and older.\n\nDuring the class\, participants
  learn to:\n\nView falls as controllable\nSet goals for increasing activit
 y\nImprove balance\, flexibility & strength\nMake changes at home to reduc
 e fall risk\nThis class is suitable for older adults who:\n\nAre concerned
  about falls\nHave fallen or are at risk for falls\nWant to increase activ
 ity and exercise\nCan walk independently (may use cane)
X-WR-RELCALID:2a5d48229d38e5144aba8f6fdcbf74e1
X-WR-TIMEZONE:America/Chicago
BEGIN:VTIMEZONE
TZID:America/Chicago
BEGIN:STANDARD
TZNAME:CST
DTSTART:20231105T020000
TZOFFSETFROM:-0500
TZOFFSETTO:-0600
RDATE:20241103T020000
RDATE:20251102T020000
END:STANDARD
BEGIN:DAYLIGHT
TZNAME:CDT
DTSTART:20240310T020000
TZOFFSETFROM:-0600
TZOFFSETTO:-0500
RDATE:20250309T020000
RDATE:20260308T020000
END:DAYLIGHT
END:VTIMEZONE
BEGIN:VEVENT
UID:1986236d-c621-4d93-8a7f-fe73af918a9c
DTSTAMP:20260424T140519Z
DESCRIPTION:Please join our friends at Clarke County Hospital for their upc
 oming Matter of Balance class.  The class will take place 10/7/2024-11/25/
 2024 9am to 11am.  \nMatter of Balance is a multi-session program designed
  to improve balance to manage falls and increase activity levels. Particip
 ants can expect to learn how to view falls as controllable\; set goals to 
 increase activity\; improve balance\, flexibility. and strength\; and asse
 ss one's home so that it is set up to reduce falls. The program time is 2 
 hours per session\, once a week for 8 weeks.\n\nThis program is designed f
 or patients 60 years of age and older.\n\nDuring the class\, participants 
 learn to:\n\nView falls as controllable\nSet goals for increasing activity
 \nImprove balance\, flexibility & strength\nMake changes at home to reduce
  fall risk\nThis class is suitable for older adults who:\n\nAre concerned 
 about falls\nHave fallen or are at risk for falls\nWant to increase activi
 ty and exercise\nCan walk independently (may use cane)
DTSTART;TZID=America/Chicago:20241007T093000
DTEND;TZID=America/Chicago:20241007T113000
LOCATION:804 S Fillmore\, Osceola\, IA 50213 US
SUMMARY:Matter of Balance Osceola
END:VEVENT
END:VCALENDAR
