BEGIN:VCALENDAR
VERSION:2.0
PRODID:-//www.connectionsaaa.org//NONSGML kigkonsult.se iCalcreator 2.30.10
 //
CALSCALE:GREGORIAN
METHOD:PUBLISH
UID:dbb9d7c1-f219-4266-af14-cf419b08bd4a
X-WR-CALDESC:If you have any important documents that you need to dispose o
 f properly\, Shredtastic is just around the corner.\n\nConnections Area Ag
 ency on Aging along with Siouxland Center for Active Generations is bringi
 ng back Shredtastic. All you need to do is load up your car full of papers
  you want shredded and head on over to 313 Cook St.\n\nFrom there workers 
 will unload your papers and shred your documents.\nGood will donations wil
 l be accepted at the event. \n
X-WR-RELCALID:abb0b7f986b26ca8e8a9447e9672f8b1
X-WR-TIMEZONE:America/Chicago
BEGIN:VTIMEZONE
TZID:America/Chicago
BEGIN:STANDARD
TZNAME:CST
DTSTART:20231105T020000
TZOFFSETFROM:-0500
TZOFFSETTO:-0600
RDATE:20241103T020000
RDATE:20251102T020000
END:STANDARD
BEGIN:DAYLIGHT
TZNAME:CDT
DTSTART:20240310T020000
TZOFFSETFROM:-0600
TZOFFSETTO:-0500
RDATE:20250309T020000
RDATE:20260308T020000
END:DAYLIGHT
END:VTIMEZONE
BEGIN:VEVENT
UID:6eb6d76c-78b0-4c75-87f9-7983439a68b7
DTSTAMP:20260424T155330Z
DESCRIPTION:If you have any important documents that you need to dispose of
  properly\, Shredtastic is just around the corner.\n\nConnections Area Age
 ncy on Aging along with Siouxland Center for Active Generations is bringin
 g back Shredtastic. All you need to do is load up your car full of papers 
 you want shredded and head on over to 313 Cook St.\n\nFrom there workers w
 ill unload your papers and shred your documents.\nGood will donations will
  be accepted at the event. \n
DTSTART;TZID=America/Chicago:20240920T110000
DTEND;TZID=America/Chicago:20240920T130000
LOCATION:313 Cook St\, Sioux City\, IA 51104 US
SUMMARY:Shredtastic-Sioux City
END:VEVENT
END:VCALENDAR
