BEGIN:VCALENDAR
VERSION:2.0
PRODID:-//www.connectionsaaa.org//NONSGML kigkonsult.se iCalcreator 2.30.10
 //
CALSCALE:GREGORIAN
METHOD:PUBLISH
UID:4adbe0ff-00a5-46f2-bb68-446277fb1e70
X-WR-CALDESC:Join us for our 4th Annual Silent Auction.  All event proceeds
  will go towards providing information supports and services to older Iowa
 ns and Family Caregivers in our 20 county service area.
X-WR-RELCALID:ab8f1e0f05d01ae44edb149ed48caf42
X-WR-TIMEZONE:America/Chicago
BEGIN:VTIMEZONE
TZID:America/Chicago
BEGIN:STANDARD
TZNAME:CST
DTSTART:20231105T020000
TZOFFSETFROM:-0500
TZOFFSETTO:-0600
RDATE:20241103T020000
RDATE:20251102T020000
END:STANDARD
BEGIN:DAYLIGHT
TZNAME:CDT
DTSTART:20240310T020000
TZOFFSETFROM:-0600
TZOFFSETTO:-0500
RDATE:20250309T020000
RDATE:20260308T020000
END:DAYLIGHT
END:VTIMEZONE
BEGIN:VEVENT
UID:9aa9ef38-7c29-434c-8b4a-bd816e24fffd
DTSTAMP:20260424T154916Z
DESCRIPTION:Join us for our 4th Annual Silent Auction.  All event proceeds 
 will go towards providing information supports and services to older Iowan
 s and Family Caregivers in our 20 county service area.
DTSTART;TZID=America/Chicago:20240908T120000
DTEND;TZID=America/Chicago:20240915T120000
LOCATION:https://www.32auctions.com/CAAA24
SUMMARY:Connections Area Agency on Aging Silent Auction
END:VEVENT
END:VCALENDAR
