BEGIN:VCALENDAR
VERSION:2.0
PRODID:-//www.connectionsaaa.org//NONSGML kigkonsult.se iCalcreator 2.30.10
 //
CALSCALE:GREGORIAN
METHOD:PUBLISH
UID:70b8b122-8764-436f-bb19-be5141ea441a
X-WR-CALDESC:Get ready to tee off for an unforgettable day of golfing\, net
 working\, and raising funds for a great cause!   We are thrilled to announ
 ce that registration is now OPEN for our 24th Annual Golf Classic and Sile
 nt Auction taking place September 13th\, 2024 at Dodge Riverside Golf Club
 .  As a valued partner of Connections Area Agency on Aging we wanted to al
 l to be part of this fantastic event.\n This event is our major fundraisin
 g event for the year\, and proceeds are used to provide supports and servi
 ces for older Iowans and their family caregivers\, to help older Iowans ag
 e on their own terms in the location of their choice.  \n
X-WR-RELCALID:1e9fa06d53a66025631cb9ddc4801610
X-WR-TIMEZONE:America/Chicago
BEGIN:VTIMEZONE
TZID:America/Chicago
BEGIN:STANDARD
TZNAME:CST
DTSTART:20231105T020000
TZOFFSETFROM:-0500
TZOFFSETTO:-0600
RDATE:20241103T020000
RDATE:20251102T020000
END:STANDARD
BEGIN:DAYLIGHT
TZNAME:CDT
DTSTART:20240310T020000
TZOFFSETFROM:-0600
TZOFFSETTO:-0500
RDATE:20250309T020000
RDATE:20260308T020000
END:DAYLIGHT
END:VTIMEZONE
BEGIN:VEVENT
UID:f195ad27-b7af-4341-bacd-58738c2f14c7
DTSTAMP:20260424T155207Z
DESCRIPTION:Get ready to tee off for an unforgettable day of golfing\, netw
 orking\, and raising funds for a great cause!   We are thrilled to announc
 e that registration is now OPEN for our 24th Annual Golf Classic and Silen
 t Auction taking place September 13th\, 2024 at Dodge Riverside Golf Club.
   As a valued partner of Connections Area Agency on Aging we wanted to all
  to be part of this fantastic event.\n This event is our major fundraising
  event for the year\, and proceeds are used to provide supports and servic
 es for older Iowans and their family caregivers\, to help older Iowans age
  on their own terms in the location of their choice.  \n
DTSTART;TZID=America/Chicago:20240913T110000
DTEND;TZID=America/Chicago:20240913T180000
LOCATION:2 Harrah's Blvd\, Council Bluffs\, IA 51503 US
SUMMARY:24th Annual Golf Classic and Silent Auction
END:VEVENT
END:VCALENDAR
