BEGIN:VCALENDAR
VERSION:2.0
PRODID:-//www.connectionsaaa.org//NONSGML kigkonsult.se iCalcreator 2.30.10
 //
CALSCALE:GREGORIAN
METHOD:PUBLISH
UID:88a91402-732b-4f11-b467-215774345ebe
X-WR-CALDESC:Join us online for a virtual Caregiver support group to discus
 s the challenges and rewards of caring for a loved one.  Call Danika Jarre
 tt to register and get the link for the meeting.
X-WR-RELCALID:dc61054e6d9cd5299a519d3d18ebbfba
X-WR-TIMEZONE:America/Chicago
BEGIN:VTIMEZONE
TZID:America/Chicago
BEGIN:STANDARD
TZNAME:CST
DTSTART:20231105T020000
TZOFFSETFROM:-0500
TZOFFSETTO:-0600
RDATE:20241103T020000
RDATE:20251102T020000
END:STANDARD
BEGIN:DAYLIGHT
TZNAME:CDT
DTSTART:20240310T020000
TZOFFSETFROM:-0600
TZOFFSETTO:-0500
RDATE:20250309T020000
END:DAYLIGHT
END:VTIMEZONE
BEGIN:VEVENT
UID:ab63826b-e4ff-4b3f-9236-d492d43c2814
DTSTAMP:20260424T172846Z
DESCRIPTION:Join us online for a virtual Caregiver support group to discuss
  the challenges and rewards of caring for a loved one.  Call Danika Jarret
 t to register and get the link for the meeting.
DTSTART;TZID=America/Chicago:20240820T143000
DTEND;TZID=America/Chicago:20240820T143000
LOCATION:call to register
SUMMARY:Virtual Caregiver Support Group
END:VEVENT
END:VCALENDAR
