BEGIN:VCALENDAR
VERSION:2.0
PRODID:-//www.connectionsaaa.org//NONSGML kigkonsult.se iCalcreator 2.30.10
 //
CALSCALE:GREGORIAN
METHOD:PUBLISH
UID:be5ce8ea-3fb1-4930-88c9-e54e7fccd105
X-WR-CALDESC:Join us online for our virtual caregiver support group to disc
 uss the challenges and rewards of caring for a loved one.  To register and
  receive the meeting link contact Dankia Jarrett at djarrett@connectionsaa
 a.org or call 800-432-9209 ext 8133
X-WR-RELCALID:b504c424f357787d57e0ff5bcc44eef8
X-WR-TIMEZONE:America/Chicago
BEGIN:VTIMEZONE
TZID:America/Chicago
BEGIN:STANDARD
TZNAME:CST
DTSTART:20231105T020000
TZOFFSETFROM:-0500
TZOFFSETTO:-0600
RDATE:20241103T020000
RDATE:20251102T020000
END:STANDARD
BEGIN:DAYLIGHT
TZNAME:CDT
DTSTART:20240310T020000
TZOFFSETFROM:-0600
TZOFFSETTO:-0500
RDATE:20250309T020000
END:DAYLIGHT
END:VTIMEZONE
BEGIN:VEVENT
UID:86daeb6f-2b97-48af-b08e-25f24e995f7b
DTSTAMP:20260424T173338Z
DESCRIPTION:Join us online for our virtual caregiver support group to discu
 ss the challenges and rewards of caring for a loved one.  To register and 
 receive the meeting link contact Dankia Jarrett at djarrett@connectionsaaa
 .org or call 800-432-9209 ext 8133
DTSTART;TZID=America/Chicago:20240815T100000
DTEND;TZID=America/Chicago:20240815T110000
LOCATION:call to register
SUMMARY:Virtual Caregiver Support Group
END:VEVENT
END:VCALENDAR
