BEGIN:VCALENDAR
VERSION:2.0
PRODID:-//www.connectionsaaa.org//NONSGML kigkonsult.se iCalcreator 2.30.10
 //
CALSCALE:GREGORIAN
METHOD:PUBLISH
UID:fdb529d6-c93d-40e9-b1e0-75f90dcf98f6
X-WR-CALDESC:Next Class Session Starts July 22nd\nThis is an 8-week class t
 hat runs through August 26th. To register\, please contact Sydney Christia
 n at 641-342-5090 or email at schristian@clarkehosp.org \n\n9:00 AM – 11:0
 0 AM\n\nBoard Conference Room\nClarke County Hospital \n805 S. Fillmore St
 . \nOsceola\, IA 50213\nParking available north of Admin/HR Building\n
X-WR-RELCALID:1159a9e7608b2007d981ca6e45fa643a
X-WR-TIMEZONE:America/Chicago
BEGIN:VTIMEZONE
TZID:America/Chicago
BEGIN:STANDARD
TZNAME:CST
DTSTART:20231105T020000
TZOFFSETFROM:-0500
TZOFFSETTO:-0600
RDATE:20241103T020000
RDATE:20251102T020000
END:STANDARD
BEGIN:DAYLIGHT
TZNAME:CDT
DTSTART:20240310T020000
TZOFFSETFROM:-0600
TZOFFSETTO:-0500
RDATE:20250309T020000
END:DAYLIGHT
END:VTIMEZONE
BEGIN:VEVENT
UID:00f6c885-69e5-455f-b62b-f10590bfc288
DTSTAMP:20260424T190118Z
DESCRIPTION:Next Class Session Starts July 22nd\nThis is an 8-week class th
 at runs through August 26th. To register\, please contact Sydney Christian
  at 641-342-5090 or email at schristian@clarkehosp.org \n\n9:00 AM – 11:00
  AM\n\nBoard Conference Room\nClarke County Hospital \n805 S. Fillmore St.
  \nOsceola\, IA 50213\nParking available north of Admin/HR Building\n
DTSTART;TZID=America/Chicago:20240722T110000
DTEND;TZID=America/Chicago:20240722T120000
LOCATION:Clarke County Hospital\, 805 S Fillmore\, Osceola\, IA 50213 US
SUMMARY:Matter of Balance Osceola
END:VEVENT
END:VCALENDAR
