BEGIN:VCALENDAR
VERSION:2.0
PRODID:-//www.connectionsaaa.org//NONSGML kigkonsult.se iCalcreator 2.30.10
 //
CALSCALE:GREGORIAN
METHOD:PUBLISH
UID:9d9a9a22-1809-46a1-8eaa-7d4484f54d0e
X-WR-CALDESC:
X-WR-RELCALID:921d9868dd635a797668c70b93fff431
X-WR-TIMEZONE:America/Chicago
BEGIN:VTIMEZONE
TZID:America/Chicago
BEGIN:STANDARD
TZNAME:CST
DTSTART:20231105T020000
TZOFFSETFROM:-0500
TZOFFSETTO:-0600
RDATE:20241103T020000
RDATE:20251102T020000
END:STANDARD
BEGIN:DAYLIGHT
TZNAME:CDT
DTSTART:20240310T020000
TZOFFSETFROM:-0600
TZOFFSETTO:-0500
RDATE:20250309T020000
END:DAYLIGHT
END:VTIMEZONE
BEGIN:VEVENT
UID:f86c6449-4e4c-4095-9fe4-c49364336c84
DTSTAMP:20260424T185615Z
DESCRIPTION:
DTSTART;TZID=America/Chicago:20240704T050000
DTEND;TZID=America/Chicago:20240705T050001
LOCATION:
SUMMARY:Offices Closed
END:VEVENT
END:VCALENDAR
